BEGIN:VCALENDAR
VERSION:2.0
PRODID:-//fra-z - ECPv6.15.20//NONSGML v1.0//EN
CALSCALE:GREGORIAN
METHOD:PUBLISH
X-ORIGINAL-URL:https://fra-z.ch
X-WR-CALDESC:Veranstaltungen für fra-z
REFRESH-INTERVAL;VALUE=DURATION:PT1H
X-Robots-Tag:noindex
X-PUBLISHED-TTL:PT1H
BEGIN:VTIMEZONE
TZID:Europe/Paris
BEGIN:DAYLIGHT
TZOFFSETFROM:+0100
TZOFFSETTO:+0200
TZNAME:CEST
DTSTART:20210328T010000
END:DAYLIGHT
BEGIN:STANDARD
TZOFFSETFROM:+0200
TZOFFSETTO:+0100
TZNAME:CET
DTSTART:20211031T010000
END:STANDARD
BEGIN:DAYLIGHT
TZOFFSETFROM:+0100
TZOFFSETTO:+0200
TZNAME:CEST
DTSTART:20220327T010000
END:DAYLIGHT
BEGIN:STANDARD
TZOFFSETFROM:+0200
TZOFFSETTO:+0100
TZNAME:CET
DTSTART:20221030T010000
END:STANDARD
BEGIN:DAYLIGHT
TZOFFSETFROM:+0100
TZOFFSETTO:+0200
TZNAME:CEST
DTSTART:20230326T010000
END:DAYLIGHT
BEGIN:STANDARD
TZOFFSETFROM:+0200
TZOFFSETTO:+0100
TZNAME:CET
DTSTART:20231029T010000
END:STANDARD
END:VTIMEZONE
BEGIN:VEVENT
DTSTART;TZID=Europe/Paris:20220514T110000
DTEND;TZID=Europe/Paris:20220514T140000
DTSTAMP:20260423T090129
CREATED:20220412T060900Z
LAST-MODIFIED:20220412T060900Z
UID:1477-1652526000-1652536800@fra-z.ch
SUMMARY:Vernissage "mächtig stolz"
DESCRIPTION:Ein wichtiges Stück Schweizer Frauen(kirchen)geschichte liegt vor. Doris Strahm und Silvia Strahm Bernet unter Mitarbeit von Monika Hungerbühler haben unter diesem Titel ein Buch über 40 Jahre Feministische Theologie und Frauen-Kirche-Bewegung in der Schweiz herausgegeben. Das wichtige Buch gibt einen Überblick über die Anfänge und Entwicklungen der feministischen Theologie. Download Flyer
URL:https://fra-z.ch/veranstaltung/vernissage-maechtig-stolz/
LOCATION:MaiHof\, Weggismattstrasse 9\, Luzern\, 6004\, Schweiz
END:VEVENT
END:VCALENDAR