BEGIN:VCALENDAR
VERSION:2.0
PRODID:-//fra-z - ECPv6.15.20//NONSGML v1.0//EN
CALSCALE:GREGORIAN
METHOD:PUBLISH
X-WR-CALNAME:fra-z
X-ORIGINAL-URL:https://fra-z.ch
X-WR-CALDESC:Veranstaltungen für fra-z
REFRESH-INTERVAL;VALUE=DURATION:PT1H
X-Robots-Tag:noindex
X-PUBLISHED-TTL:PT1H
BEGIN:VTIMEZONE
TZID:Europe/Paris
BEGIN:DAYLIGHT
TZOFFSETFROM:+0100
TZOFFSETTO:+0200
TZNAME:CEST
DTSTART:20210328T010000
END:DAYLIGHT
BEGIN:STANDARD
TZOFFSETFROM:+0200
TZOFFSETTO:+0100
TZNAME:CET
DTSTART:20211031T010000
END:STANDARD
BEGIN:DAYLIGHT
TZOFFSETFROM:+0100
TZOFFSETTO:+0200
TZNAME:CEST
DTSTART:20220327T010000
END:DAYLIGHT
BEGIN:STANDARD
TZOFFSETFROM:+0200
TZOFFSETTO:+0100
TZNAME:CET
DTSTART:20221030T010000
END:STANDARD
BEGIN:DAYLIGHT
TZOFFSETFROM:+0100
TZOFFSETTO:+0200
TZNAME:CEST
DTSTART:20230326T010000
END:DAYLIGHT
BEGIN:STANDARD
TZOFFSETFROM:+0200
TZOFFSETTO:+0100
TZNAME:CET
DTSTART:20231029T010000
END:STANDARD
END:VTIMEZONE
BEGIN:VEVENT
DTSTART;TZID=Europe/Paris:20220909T193000
DTEND;TZID=Europe/Paris:20220909T213000
DTSTAMP:20260423T013522
CREATED:20220614T104857Z
LAST-MODIFIED:20220614T104857Z
UID:1502-1662751800-1662759000@fra-z.ch
SUMMARY:fra-z Zelt mit Frauenlieder – Göttinnengesänge
DESCRIPTION:Ritueller Singabend mit Susanna Maeder in Luzern (Ort noch offen). \nMit Anmeldung unter info@fra-z.ch
URL:https://fra-z.ch/veranstaltung/fra-z-zelt-mit-frauenlieder-goettinnengesaenge/
END:VEVENT
END:VCALENDAR