BEGIN:VCALENDAR
VERSION:2.0
PRODID:-//fra-z - ECPv6.15.20//NONSGML v1.0//EN
CALSCALE:GREGORIAN
METHOD:PUBLISH
X-ORIGINAL-URL:https://fra-z.ch
X-WR-CALDESC:Veranstaltungen für fra-z
REFRESH-INTERVAL;VALUE=DURATION:PT1H
X-Robots-Tag:noindex
X-PUBLISHED-TTL:PT1H
BEGIN:VTIMEZONE
TZID:Europe/Paris
BEGIN:DAYLIGHT
TZOFFSETFROM:+0100
TZOFFSETTO:+0200
TZNAME:CEST
DTSTART:20210328T010000
END:DAYLIGHT
BEGIN:STANDARD
TZOFFSETFROM:+0200
TZOFFSETTO:+0100
TZNAME:CET
DTSTART:20211031T010000
END:STANDARD
BEGIN:DAYLIGHT
TZOFFSETFROM:+0100
TZOFFSETTO:+0200
TZNAME:CEST
DTSTART:20220327T010000
END:DAYLIGHT
BEGIN:STANDARD
TZOFFSETFROM:+0200
TZOFFSETTO:+0100
TZNAME:CET
DTSTART:20221030T010000
END:STANDARD
BEGIN:DAYLIGHT
TZOFFSETFROM:+0100
TZOFFSETTO:+0200
TZNAME:CEST
DTSTART:20230326T010000
END:DAYLIGHT
BEGIN:STANDARD
TZOFFSETFROM:+0200
TZOFFSETTO:+0100
TZNAME:CET
DTSTART:20231029T010000
END:STANDARD
END:VTIMEZONE
BEGIN:VEVENT
DTSTART;TZID=Europe/Paris:20220923T190000
DTEND;TZID=Europe/Paris:20220923T200000
DTSTAMP:20260423T012143
CREATED:20220913T111043Z
LAST-MODIFIED:20220913T111518Z
UID:2291-1663959600-1663963200@fra-z.ch
SUMMARY:Caro Knaack "Permission to laugh" in Stans
DESCRIPTION:Wir nehmen es ernst mit Humor. Wir werfen einen anderen Blick auf das Thema Frauen und Migrant*innen. Mit Tränen des Lachens erzählen wir Frauen- und Integrationsgeschichten.
URL:https://fra-z.ch/veranstaltung/caro-knaack-permission-to-laugh-in-stans/
LOCATION:Winkelriedbrunnen\, Stans\, Rasthausplatz 8\, Stans\, Nidwalden\, 6370\, Schweiz
END:VEVENT
END:VCALENDAR