BEGIN:VCALENDAR
VERSION:2.0
PRODID:-//fra-z - ECPv6.15.20//NONSGML v1.0//EN
CALSCALE:GREGORIAN
METHOD:PUBLISH
X-ORIGINAL-URL:https://fra-z.ch
X-WR-CALDESC:Veranstaltungen für fra-z
REFRESH-INTERVAL;VALUE=DURATION:PT1H
X-Robots-Tag:noindex
X-PUBLISHED-TTL:PT1H
BEGIN:VTIMEZONE
TZID:Europe/Paris
BEGIN:DAYLIGHT
TZOFFSETFROM:+0100
TZOFFSETTO:+0200
TZNAME:CEST
DTSTART:20210328T010000
END:DAYLIGHT
BEGIN:STANDARD
TZOFFSETFROM:+0200
TZOFFSETTO:+0100
TZNAME:CET
DTSTART:20211031T010000
END:STANDARD
BEGIN:DAYLIGHT
TZOFFSETFROM:+0100
TZOFFSETTO:+0200
TZNAME:CEST
DTSTART:20220327T010000
END:DAYLIGHT
BEGIN:STANDARD
TZOFFSETFROM:+0200
TZOFFSETTO:+0100
TZNAME:CET
DTSTART:20221030T010000
END:STANDARD
BEGIN:DAYLIGHT
TZOFFSETFROM:+0100
TZOFFSETTO:+0200
TZNAME:CEST
DTSTART:20230326T010000
END:DAYLIGHT
BEGIN:STANDARD
TZOFFSETFROM:+0200
TZOFFSETTO:+0100
TZNAME:CET
DTSTART:20231029T010000
END:STANDARD
END:VTIMEZONE
BEGIN:VEVENT
DTSTART;TZID=Europe/Paris:20220930T193000
DTEND;TZID=Europe/Paris:20220930T213000
DTSTAMP:20260422T232744
CREATED:20220913T111400Z
LAST-MODIFIED:20220913T111425Z
UID:2294-1664566200-1664573400@fra-z.ch
SUMMARY:Frauenlieder - Göttinnengesänge
DESCRIPTION:Ritueller Singabend mit Susanna Mäder. Die Platzzahl ist beschränkt\, bitte um Anmeldung auf info@fra-z.ch
URL:https://fra-z.ch/veranstaltung/frauenlieder-goettinnengesaenge/
LOCATION:Dreilinden Luzern\, Dreilindenstrasse 93\, Luzern\, Luzern\, 6036\, Schweiz
END:VEVENT
END:VCALENDAR