BEGIN:VCALENDAR
VERSION:2.0
PRODID:-//fra-z - ECPv6.15.20//NONSGML v1.0//EN
CALSCALE:GREGORIAN
METHOD:PUBLISH
X-ORIGINAL-URL:https://fra-z.ch
X-WR-CALDESC:Veranstaltungen für fra-z
REFRESH-INTERVAL;VALUE=DURATION:PT1H
X-Robots-Tag:noindex
X-PUBLISHED-TTL:PT1H
BEGIN:VTIMEZONE
TZID:Europe/Paris
BEGIN:DAYLIGHT
TZOFFSETFROM:+0100
TZOFFSETTO:+0200
TZNAME:CEST
DTSTART:20220327T010000
END:DAYLIGHT
BEGIN:STANDARD
TZOFFSETFROM:+0200
TZOFFSETTO:+0100
TZNAME:CET
DTSTART:20221030T010000
END:STANDARD
BEGIN:DAYLIGHT
TZOFFSETFROM:+0100
TZOFFSETTO:+0200
TZNAME:CEST
DTSTART:20230326T010000
END:DAYLIGHT
BEGIN:STANDARD
TZOFFSETFROM:+0200
TZOFFSETTO:+0100
TZNAME:CET
DTSTART:20231029T010000
END:STANDARD
BEGIN:DAYLIGHT
TZOFFSETFROM:+0100
TZOFFSETTO:+0200
TZNAME:CEST
DTSTART:20240331T010000
END:DAYLIGHT
BEGIN:STANDARD
TZOFFSETFROM:+0200
TZOFFSETTO:+0100
TZNAME:CET
DTSTART:20241027T010000
END:STANDARD
END:VTIMEZONE
BEGIN:VEVENT
DTSTART;TZID=Europe/Paris:20230511T190000
DTEND;TZID=Europe/Paris:20230511T210000
DTSTAMP:20260422T112255
CREATED:20230321T130216Z
LAST-MODIFIED:20230328T081959Z
UID:2741-1683831600-1683838800@fra-z.ch
SUMMARY:Vom Mut den eigenen Weg zu gehen
DESCRIPTION:Impulsabend mit Sabrina Gundert im fra-z Zelt
URL:https://fra-z.ch/veranstaltung/den-weg-mit-dem-herzen-gehen/
LOCATION:zentrumRanft\, Hubel 2\, Flüeli-Ranft\, 6073
END:VEVENT
END:VCALENDAR