BEGIN:VCALENDAR
VERSION:2.0
PRODID:-//fra-z - ECPv6.15.20//NONSGML v1.0//EN
CALSCALE:GREGORIAN
METHOD:PUBLISH
X-ORIGINAL-URL:https://fra-z.ch
X-WR-CALDESC:Veranstaltungen für fra-z
REFRESH-INTERVAL;VALUE=DURATION:PT1H
X-Robots-Tag:noindex
X-PUBLISHED-TTL:PT1H
BEGIN:VTIMEZONE
TZID:Europe/Paris
BEGIN:DAYLIGHT
TZOFFSETFROM:+0100
TZOFFSETTO:+0200
TZNAME:CEST
DTSTART:20220327T010000
END:DAYLIGHT
BEGIN:STANDARD
TZOFFSETFROM:+0200
TZOFFSETTO:+0100
TZNAME:CET
DTSTART:20221030T010000
END:STANDARD
BEGIN:DAYLIGHT
TZOFFSETFROM:+0100
TZOFFSETTO:+0200
TZNAME:CEST
DTSTART:20230326T010000
END:DAYLIGHT
BEGIN:STANDARD
TZOFFSETFROM:+0200
TZOFFSETTO:+0100
TZNAME:CET
DTSTART:20231029T010000
END:STANDARD
BEGIN:DAYLIGHT
TZOFFSETFROM:+0100
TZOFFSETTO:+0200
TZNAME:CEST
DTSTART:20240331T010000
END:DAYLIGHT
BEGIN:STANDARD
TZOFFSETFROM:+0200
TZOFFSETTO:+0100
TZNAME:CET
DTSTART:20241027T010000
END:STANDARD
END:VTIMEZONE
BEGIN:VEVENT
DTSTART;TZID=Europe/Paris:20230624T140000
DTEND;TZID=Europe/Paris:20230624T190000
DTSTAMP:20260422T090958
CREATED:20230424T115304Z
LAST-MODIFIED:20230605T091746Z
UID:2769-1687615200-1687633200@fra-z.ch
SUMMARY:24. Juni 2023 Flüchtlingstag
DESCRIPTION:Der Flüchtlingstag 2023 ein Zeichen des Friedens – besonders für Frauen auf der Flucht.  \n Der Zuger Flüchtlingstag liegt dieses Jahr auf dem Johannistag\, am Anfang des Sommers. Am Samstag\, 24. Juni 2023 findet von 14.00 – 19.00 Uhr im reformierten Kirchenzentrum Zug ein abwechslungsreiches Programm für Jung und Alt statt. Eine breit aufgestellte\, multikulturelle Vorbereitungsgruppe verantwortet es.
URL:https://fra-z.ch/veranstaltung/fluechtlingstag-2023/
LOCATION:Reformierte Kirche Zug\, Bundesstrasse 15\, Zug\, 6300
END:VEVENT
END:VCALENDAR