BEGIN:VCALENDAR
VERSION:2.0
PRODID:-//fra-z - ECPv6.15.20//NONSGML v1.0//EN
CALSCALE:GREGORIAN
METHOD:PUBLISH
X-WR-CALNAME:fra-z
X-ORIGINAL-URL:https://fra-z.ch
X-WR-CALDESC:Veranstaltungen für fra-z
REFRESH-INTERVAL;VALUE=DURATION:PT1H
X-Robots-Tag:noindex
X-PUBLISHED-TTL:PT1H
BEGIN:VTIMEZONE
TZID:Europe/Paris
BEGIN:DAYLIGHT
TZOFFSETFROM:+0100
TZOFFSETTO:+0200
TZNAME:CEST
DTSTART:20220327T010000
END:DAYLIGHT
BEGIN:STANDARD
TZOFFSETFROM:+0200
TZOFFSETTO:+0100
TZNAME:CET
DTSTART:20221030T010000
END:STANDARD
BEGIN:DAYLIGHT
TZOFFSETFROM:+0100
TZOFFSETTO:+0200
TZNAME:CEST
DTSTART:20230326T010000
END:DAYLIGHT
BEGIN:STANDARD
TZOFFSETFROM:+0200
TZOFFSETTO:+0100
TZNAME:CET
DTSTART:20231029T010000
END:STANDARD
BEGIN:DAYLIGHT
TZOFFSETFROM:+0100
TZOFFSETTO:+0200
TZNAME:CEST
DTSTART:20240331T010000
END:DAYLIGHT
BEGIN:STANDARD
TZOFFSETFROM:+0200
TZOFFSETTO:+0100
TZNAME:CET
DTSTART:20241027T010000
END:STANDARD
END:VTIMEZONE
BEGIN:VEVENT
DTSTART;TZID=Europe/Paris:20230630T090000
DTEND;TZID=Europe/Paris:20230630T210000
DTSTAMP:20260422T085956
CREATED:20230531T185251Z
LAST-MODIFIED:20230531T185251Z
UID:2839-1688115600-1688158800@fra-z.ch
SUMMARY:Mit Würde Brache betreten
DESCRIPTION:Die Kunst – Brachen erkennen\, ihnen Raum geben und sie hüten \nDie Brache hat schon in ihrem landwirtschaftlichen Ursprung einen ungewissem Ausgang. Das zeigt sich spätestens im Klimawandel: Es geht nicht gleich weiter. Diese Offenheit kennzeichnet alle Brachen – auch die sozialen\, körperlichen\, architektonischen\, musikalischen und spirituellen. \nBrache: Da wird nichts mit voraussehbarem Ergebnis. Möglich ist ein würdigendes Anerkennen von dem\, was da war. Ebenso Freude über das\, was durch Zuwendung an Notwendigem\, Gutem wachsen könnte. \nAngetrieben vom Verlangen nach einer gerechteren Welt versammeln wir uns und erkunden die Brachen von Selbstverortung Verbundenheit\, Sinnhorizont: feministisch\, politisch\, spirituell\, intergenerationell\, experimentell\, mit offenem Ausgang. \n  \nTagesseminar/Podium/Werkstatt können einzeln gebucht werden
URL:https://fra-z.ch/veranstaltung/mit-wuerde-brache-betreten/
LOCATION:Kirche St. Johannes Zug\, St. Johannesstrasse 9\, Zug\, 6300
END:VEVENT
BEGIN:VEVENT
DTSTART;TZID=Europe/Paris:20230630T170000
DTEND;TZID=Europe/Paris:20230630T170000
DTSTAMP:20260422T085956
CREATED:20230424T115530Z
LAST-MODIFIED:20230424T115552Z
UID:2771-1688144400-1688144400@fra-z.ch
SUMMARY:Mitgliederversammlung fra-z
DESCRIPTION:
URL:https://fra-z.ch/veranstaltung/mitgliederversammlung-fra-z/
LOCATION:Kirche St. Johannes Zug\, St. Johannesstrasse 9\, Zug\, 6300
END:VEVENT
END:VCALENDAR