BEGIN:VCALENDAR
VERSION:2.0
PRODID:-//fra-z - ECPv6.15.20//NONSGML v1.0//EN
CALSCALE:GREGORIAN
METHOD:PUBLISH
X-ORIGINAL-URL:https://fra-z.ch
X-WR-CALDESC:Veranstaltungen für fra-z
REFRESH-INTERVAL;VALUE=DURATION:PT1H
X-Robots-Tag:noindex
X-PUBLISHED-TTL:PT1H
BEGIN:VTIMEZONE
TZID:Europe/Paris
BEGIN:DAYLIGHT
TZOFFSETFROM:+0100
TZOFFSETTO:+0200
TZNAME:CEST
DTSTART:20230326T010000
END:DAYLIGHT
BEGIN:STANDARD
TZOFFSETFROM:+0200
TZOFFSETTO:+0100
TZNAME:CET
DTSTART:20231029T010000
END:STANDARD
BEGIN:DAYLIGHT
TZOFFSETFROM:+0100
TZOFFSETTO:+0200
TZNAME:CEST
DTSTART:20240331T010000
END:DAYLIGHT
BEGIN:STANDARD
TZOFFSETFROM:+0200
TZOFFSETTO:+0100
TZNAME:CET
DTSTART:20241027T010000
END:STANDARD
BEGIN:DAYLIGHT
TZOFFSETFROM:+0100
TZOFFSETTO:+0200
TZNAME:CEST
DTSTART:20250330T010000
END:DAYLIGHT
BEGIN:STANDARD
TZOFFSETFROM:+0200
TZOFFSETTO:+0100
TZNAME:CET
DTSTART:20251026T010000
END:STANDARD
END:VTIMEZONE
BEGIN:VEVENT
DTSTART;TZID=Europe/Paris:20240203T140000
DTEND;TZID=Europe/Paris:20240203T180000
DTSTAMP:20260421T181827
CREATED:20240115T130619Z
LAST-MODIFIED:20240115T130619Z
UID:3280-1706968800-1706983200@fra-z.ch
SUMMARY:Ritualgruppe mit Winter Imbolc
DESCRIPTION:Am Samstag\, den 3. Februar von 14 bis 18 Uhr bietet die neue Ritualgruppe das Winter Imbolc-Ritual im Kulturkloster Altdorf (Uri) an. Es ist ein Räucherritual\, das sowohl drinnen als auch draussen stattfindet. Unter Anleitung kannst du deine eigenen Räuchermischung herstellen und grundlegendes Wissen für Anfänger*innen erwerben.\nWir empfehlen wetterentsprechende Kleidung. Am Ende des Rituals laden wir dazu ein\, etwas für die Teilete mitzunehmen und gemeinsam den Abschluss zu feiern.\nFür Nichtmitglieder beträgt die Teilnahmegebühr CHF 30.– für  fra-z Mitglieder ists es kostenlos. \nAnmeldung bei olivia.alagia@fra-z.ch oder info@fra-z.ch
URL:https://fra-z.ch/veranstaltung/ritualgruppe-mit-winter-imbolc/
LOCATION:Kulturkloster Altdorf\, Kapuzinerweg 22\, Altdorf\, 6460
END:VEVENT
END:VCALENDAR