BEGIN:VCALENDAR
VERSION:2.0
PRODID:-//fra-z - ECPv6.15.20//NONSGML v1.0//EN
CALSCALE:GREGORIAN
METHOD:PUBLISH
X-ORIGINAL-URL:https://fra-z.ch
X-WR-CALDESC:Veranstaltungen für fra-z
REFRESH-INTERVAL;VALUE=DURATION:PT1H
X-Robots-Tag:noindex
X-PUBLISHED-TTL:PT1H
BEGIN:VTIMEZONE
TZID:Europe/Paris
BEGIN:DAYLIGHT
TZOFFSETFROM:+0100
TZOFFSETTO:+0200
TZNAME:CEST
DTSTART:20230326T010000
END:DAYLIGHT
BEGIN:STANDARD
TZOFFSETFROM:+0200
TZOFFSETTO:+0100
TZNAME:CET
DTSTART:20231029T010000
END:STANDARD
BEGIN:DAYLIGHT
TZOFFSETFROM:+0100
TZOFFSETTO:+0200
TZNAME:CEST
DTSTART:20240331T010000
END:DAYLIGHT
BEGIN:STANDARD
TZOFFSETFROM:+0200
TZOFFSETTO:+0100
TZNAME:CET
DTSTART:20241027T010000
END:STANDARD
BEGIN:DAYLIGHT
TZOFFSETFROM:+0100
TZOFFSETTO:+0200
TZNAME:CEST
DTSTART:20250330T010000
END:DAYLIGHT
BEGIN:STANDARD
TZOFFSETFROM:+0200
TZOFFSETTO:+0100
TZNAME:CET
DTSTART:20251026T010000
END:STANDARD
END:VTIMEZONE
BEGIN:VEVENT
DTSTART;TZID=Europe/Paris:20240308T090000
DTEND;TZID=Europe/Paris:20240308T130000
DTSTAMP:20260421T163520
CREATED:20240219T125312Z
LAST-MODIFIED:20240219T125346Z
UID:3416-1709888400-1709902800@fra-z.ch
SUMMARY:Selbst-Behauptung\, – Bewusstsein\, – Gewissheit
DESCRIPTION:Wir geniessen und feiern in Gemeinschaft den Frauentag am Freitag\, 8. März 2024 auf dem Vorplatz der Kirche Gut Hirt\, Baarerstasse 62 in Zug. \nVon 9 bis 13 Uhr trainieren wir mit Karin Vonwil von Pallas für mehr Sicherheit\, Selbstvertrauen und Selbstbestimmung durch Selbstbehauptung und Selbstverteidigung.\nIm fra-z Zelt gibt es Informationen\, Videos und Flyer. Und ab 13 Uhr laden wir zum Suppenzmittag in gemütlicher Runde ein.
URL:https://fra-z.ch/veranstaltung/selbst-behauptung-bewusstsein-gewissheit/
LOCATION:Kirche Gut Hirt\, Baarerstrasse 62\, Zug\, 6300
END:VEVENT
END:VCALENDAR