BEGIN:VCALENDAR
VERSION:2.0
PRODID:-//fra-z - ECPv6.15.20//NONSGML v1.0//EN
CALSCALE:GREGORIAN
METHOD:PUBLISH
X-WR-CALNAME:fra-z
X-ORIGINAL-URL:https://fra-z.ch
X-WR-CALDESC:Veranstaltungen für fra-z
REFRESH-INTERVAL;VALUE=DURATION:PT1H
X-Robots-Tag:noindex
X-PUBLISHED-TTL:PT1H
BEGIN:VTIMEZONE
TZID:Europe/Paris
BEGIN:DAYLIGHT
TZOFFSETFROM:+0100
TZOFFSETTO:+0200
TZNAME:CEST
DTSTART:20230326T010000
END:DAYLIGHT
BEGIN:STANDARD
TZOFFSETFROM:+0200
TZOFFSETTO:+0100
TZNAME:CET
DTSTART:20231029T010000
END:STANDARD
BEGIN:DAYLIGHT
TZOFFSETFROM:+0100
TZOFFSETTO:+0200
TZNAME:CEST
DTSTART:20240331T010000
END:DAYLIGHT
BEGIN:STANDARD
TZOFFSETFROM:+0200
TZOFFSETTO:+0100
TZNAME:CET
DTSTART:20241027T010000
END:STANDARD
BEGIN:DAYLIGHT
TZOFFSETFROM:+0100
TZOFFSETTO:+0200
TZNAME:CEST
DTSTART:20250330T010000
END:DAYLIGHT
BEGIN:STANDARD
TZOFFSETFROM:+0200
TZOFFSETTO:+0100
TZNAME:CET
DTSTART:20251026T010000
END:STANDARD
END:VTIMEZONE
BEGIN:VEVENT
DTSTART;TZID=Europe/Paris:20240427T150000
DTEND;TZID=Europe/Paris:20240427T180000
DTSTAMP:20260421T145203
CREATED:20240115T130828Z
LAST-MODIFIED:20240416T080006Z
UID:3283-1714230000-1714240800@fra-z.ch
SUMMARY:Ritualgruppe - Frühlings Beltane
DESCRIPTION:Yoni-Dampfbadritual\, Fruchtbarkeit feiern\, Verbindung zur Gebärmutter\, Selbstmassage und Meditation. Anmeldung bis 26. April bei olivia.alagia@fra-z.ch oder info@fra-z.ch
URL:https://fra-z.ch/veranstaltung/ritualgruppe-fruehlings-beltane/
LOCATION:Allenwindenhof\, Allenwindenstr. 65\, Wollerau\, 8832
END:VEVENT
END:VCALENDAR