BEGIN:VCALENDAR
VERSION:2.0
PRODID:-//fra-z - ECPv6.15.20//NONSGML v1.0//EN
CALSCALE:GREGORIAN
METHOD:PUBLISH
X-ORIGINAL-URL:https://fra-z.ch
X-WR-CALDESC:Veranstaltungen für fra-z
REFRESH-INTERVAL;VALUE=DURATION:PT1H
X-Robots-Tag:noindex
X-PUBLISHED-TTL:PT1H
BEGIN:VTIMEZONE
TZID:Europe/Paris
BEGIN:DAYLIGHT
TZOFFSETFROM:+0100
TZOFFSETTO:+0200
TZNAME:CEST
DTSTART:20230326T010000
END:DAYLIGHT
BEGIN:STANDARD
TZOFFSETFROM:+0200
TZOFFSETTO:+0100
TZNAME:CET
DTSTART:20231029T010000
END:STANDARD
BEGIN:DAYLIGHT
TZOFFSETFROM:+0100
TZOFFSETTO:+0200
TZNAME:CEST
DTSTART:20240331T010000
END:DAYLIGHT
BEGIN:STANDARD
TZOFFSETFROM:+0200
TZOFFSETTO:+0100
TZNAME:CET
DTSTART:20241027T010000
END:STANDARD
BEGIN:DAYLIGHT
TZOFFSETFROM:+0100
TZOFFSETTO:+0200
TZNAME:CEST
DTSTART:20250330T010000
END:DAYLIGHT
BEGIN:STANDARD
TZOFFSETFROM:+0200
TZOFFSETTO:+0100
TZNAME:CET
DTSTART:20251026T010000
END:STANDARD
END:VTIMEZONE
BEGIN:VEVENT
DTSTART;TZID=Europe/Paris:20241205T183000
DTEND;TZID=Europe/Paris:20241205T190000
DTSTAMP:20260421T000231
CREATED:20240115T132915Z
LAST-MODIFIED:20240115T132915Z
UID:3309-1733423400-1733425200@fra-z.ch
SUMMARY:Schweigen für den Frieden
DESCRIPTION:
URL:https://fra-z.ch/veranstaltung/schweigen-fuer-den-frieden-25/
LOCATION:Kornmarkt Luzern\, Weinmarkt\, Luzern\, Luzern\, Schweiz
END:VEVENT
END:VCALENDAR