BEGIN:VCALENDAR
VERSION:2.0
PRODID:-//fra-z - ECPv6.15.20//NONSGML v1.0//EN
CALSCALE:GREGORIAN
METHOD:PUBLISH
X-WR-CALNAME:fra-z
X-ORIGINAL-URL:https://fra-z.ch
X-WR-CALDESC:Veranstaltungen für fra-z
REFRESH-INTERVAL;VALUE=DURATION:PT1H
X-Robots-Tag:noindex
X-PUBLISHED-TTL:PT1H
BEGIN:VTIMEZONE
TZID:Europe/Paris
BEGIN:DAYLIGHT
TZOFFSETFROM:+0100
TZOFFSETTO:+0200
TZNAME:CEST
DTSTART:20230326T010000
END:DAYLIGHT
BEGIN:STANDARD
TZOFFSETFROM:+0200
TZOFFSETTO:+0100
TZNAME:CET
DTSTART:20231029T010000
END:STANDARD
BEGIN:DAYLIGHT
TZOFFSETFROM:+0100
TZOFFSETTO:+0200
TZNAME:CEST
DTSTART:20240331T010000
END:DAYLIGHT
BEGIN:STANDARD
TZOFFSETFROM:+0200
TZOFFSETTO:+0100
TZNAME:CET
DTSTART:20241027T010000
END:STANDARD
BEGIN:DAYLIGHT
TZOFFSETFROM:+0100
TZOFFSETTO:+0200
TZNAME:CEST
DTSTART:20250330T010000
END:DAYLIGHT
BEGIN:STANDARD
TZOFFSETFROM:+0200
TZOFFSETTO:+0100
TZNAME:CET
DTSTART:20251026T010000
END:STANDARD
END:VTIMEZONE
BEGIN:VEVENT
DTSTART;TZID=Europe/Paris:20241207T140000
DTEND;TZID=Europe/Paris:20241207T180000
DTSTAMP:20260420T235840
CREATED:20241007T150935Z
LAST-MODIFIED:20241007T151009Z
UID:4298-1733580000-1733594400@fra-z.ch
SUMMARY:Zyklus-Wissen - Einladung zum Roten Zelt
DESCRIPTION:Das Rote Zelt ist ein geschützter Raum\, in dem wir als Frauen zusammenkommen\, um unser Wissen und unsere Erfahrungen zu teilen.
URL:https://fra-z.ch/veranstaltung/zyklus-wissen-einladung-zum-roten-zelt/
LOCATION:Yogagemeinschaft Luzern\, Hirschengraben 13a\, Luzern\, 6003\, Switzerland
END:VEVENT
END:VCALENDAR