BEGIN:VCALENDAR
VERSION:2.0
PRODID:-//fra-z - ECPv6.15.20//NONSGML v1.0//EN
CALSCALE:GREGORIAN
METHOD:PUBLISH
X-ORIGINAL-URL:https://fra-z.ch
X-WR-CALDESC:Veranstaltungen für fra-z
REFRESH-INTERVAL;VALUE=DURATION:PT1H
X-Robots-Tag:noindex
X-PUBLISHED-TTL:PT1H
BEGIN:VTIMEZONE
TZID:Europe/Paris
BEGIN:DAYLIGHT
TZOFFSETFROM:+0100
TZOFFSETTO:+0200
TZNAME:CEST
DTSTART:20240331T010000
END:DAYLIGHT
BEGIN:STANDARD
TZOFFSETFROM:+0200
TZOFFSETTO:+0100
TZNAME:CET
DTSTART:20241027T010000
END:STANDARD
BEGIN:DAYLIGHT
TZOFFSETFROM:+0100
TZOFFSETTO:+0200
TZNAME:CEST
DTSTART:20250330T010000
END:DAYLIGHT
BEGIN:STANDARD
TZOFFSETFROM:+0200
TZOFFSETTO:+0100
TZNAME:CET
DTSTART:20251026T010000
END:STANDARD
BEGIN:DAYLIGHT
TZOFFSETFROM:+0100
TZOFFSETTO:+0200
TZNAME:CEST
DTSTART:20260329T010000
END:DAYLIGHT
BEGIN:STANDARD
TZOFFSETFROM:+0200
TZOFFSETTO:+0100
TZNAME:CET
DTSTART:20261025T010000
END:STANDARD
END:VTIMEZONE
BEGIN:VEVENT
DTSTART;TZID=Europe/Paris:20250327T181500
DTEND;TZID=Europe/Paris:20250327T204500
DTSTAMP:20260420T184808
CREATED:20250213T124830Z
LAST-MODIFIED:20250213T124830Z
UID:4553-1743099300-1743108300@fra-z.ch
SUMMARY:feministisch vorsorgen
DESCRIPTION:Wissen über Vorsorge und Finanzen auf einfache und verständliche Art in der Uni Luzern\, Raum 4.B55. \nMit dem Crashkurs möchten wir über das Thema Altersarmut aufklären; den Teilnehmenden das nötige Wissen mitgeben\, um Lücken in der Altersvorsorge entgegenzuwirken und die persönliche Vorsorge-Situation zu verbessern und so Menschen darin bestärken\, ihre finanzielle Zukunft selbstbestimmt in die Hand zu nehmen. \n  \n 
URL:https://fra-z.ch/veranstaltung/feministisch-vorsorgen/
LOCATION:Universität Luzern\, Frohburgstrasse 3\, Luzern\, 6002\, Switzerland
END:VEVENT
END:VCALENDAR