BEGIN:VCALENDAR
VERSION:2.0
PRODID:-//fra-z - ECPv6.15.20//NONSGML v1.0//EN
CALSCALE:GREGORIAN
METHOD:PUBLISH
X-WR-CALNAME:fra-z
X-ORIGINAL-URL:https://fra-z.ch
X-WR-CALDESC:Veranstaltungen für fra-z
REFRESH-INTERVAL;VALUE=DURATION:PT1H
X-Robots-Tag:noindex
X-PUBLISHED-TTL:PT1H
BEGIN:VTIMEZONE
TZID:Europe/Paris
BEGIN:DAYLIGHT
TZOFFSETFROM:+0100
TZOFFSETTO:+0200
TZNAME:CEST
DTSTART:20240331T010000
END:DAYLIGHT
BEGIN:STANDARD
TZOFFSETFROM:+0200
TZOFFSETTO:+0100
TZNAME:CET
DTSTART:20241027T010000
END:STANDARD
BEGIN:DAYLIGHT
TZOFFSETFROM:+0100
TZOFFSETTO:+0200
TZNAME:CEST
DTSTART:20250330T010000
END:DAYLIGHT
BEGIN:STANDARD
TZOFFSETFROM:+0200
TZOFFSETTO:+0100
TZNAME:CET
DTSTART:20251026T010000
END:STANDARD
BEGIN:DAYLIGHT
TZOFFSETFROM:+0100
TZOFFSETTO:+0200
TZNAME:CEST
DTSTART:20260329T010000
END:DAYLIGHT
BEGIN:STANDARD
TZOFFSETFROM:+0200
TZOFFSETTO:+0100
TZNAME:CET
DTSTART:20261025T010000
END:STANDARD
END:VTIMEZONE
BEGIN:VEVENT
DTSTART;TZID=Europe/Paris:20250903T120000
DTEND;TZID=Europe/Paris:20250903T160000
DTSTAMP:20260420T065920
CREATED:20250814T111756Z
LAST-MODIFIED:20250814T122237Z
UID:6267-1756900800-1756915200@fra-z.ch
SUMMARY:Let’s Talk Menopause
DESCRIPTION:Gemeinsam mit dem Institute for Women’s Wellbeing at Work (IWWW) lädt fra-z zu einem gemeinsamen Tag rund um Gesundheit in den Wechseljahren und weiteren Themen der geschlechtsspezifischen Gesundheit im Arbeitskontext ein – für mehr Sichtbarkeit\, Wissen und Erfahrungsaustausch.
URL:https://fra-z.ch/veranstaltung/lets-talk-menopause/
LOCATION:Freiruum Zug\, Aabachstrasse 16\, Zug\, 6300
END:VEVENT
END:VCALENDAR