BEGIN:VCALENDAR
VERSION:2.0
PRODID:-//fra-z - ECPv6.15.20//NONSGML v1.0//EN
CALSCALE:GREGORIAN
METHOD:PUBLISH
X-WR-CALNAME:fra-z
X-ORIGINAL-URL:https://fra-z.ch
X-WR-CALDESC:Veranstaltungen für fra-z
REFRESH-INTERVAL;VALUE=DURATION:PT1H
X-Robots-Tag:noindex
X-PUBLISHED-TTL:PT1H
BEGIN:VTIMEZONE
TZID:Europe/Paris
BEGIN:DAYLIGHT
TZOFFSETFROM:+0100
TZOFFSETTO:+0200
TZNAME:CEST
DTSTART:20200329T010000
END:DAYLIGHT
BEGIN:STANDARD
TZOFFSETFROM:+0200
TZOFFSETTO:+0100
TZNAME:CET
DTSTART:20201025T010000
END:STANDARD
BEGIN:DAYLIGHT
TZOFFSETFROM:+0100
TZOFFSETTO:+0200
TZNAME:CEST
DTSTART:20210328T010000
END:DAYLIGHT
BEGIN:STANDARD
TZOFFSETFROM:+0200
TZOFFSETTO:+0100
TZNAME:CET
DTSTART:20211031T010000
END:STANDARD
BEGIN:DAYLIGHT
TZOFFSETFROM:+0100
TZOFFSETTO:+0200
TZNAME:CEST
DTSTART:20220327T010000
END:DAYLIGHT
BEGIN:STANDARD
TZOFFSETFROM:+0200
TZOFFSETTO:+0100
TZNAME:CET
DTSTART:20221030T010000
END:STANDARD
END:VTIMEZONE
BEGIN:VEVENT
DTSTART;TZID=Europe/Paris:20210314T190000
DTEND;TZID=Europe/Paris:20210314T200000
DTSTAMP:20260425T192038
CREATED:20210309T175028Z
LAST-MODIFIED:20210311T100607Z
UID:545-1615748400-1615752000@fra-z.ch
SUMMARY:Frauengottesdienst
DESCRIPTION:Leitung: Ursula Norer und Christel Gysin\nThema: „Sie haben Augen und sehen nicht.“ \n  \nWir gedenken Maria Käch\, langjährige Vorstandsfrau der FrauenKirche und Mitgestalterin der Frauengottesdienste. \nDer Tod unserer Weggefährtin bewegt uns. Sie ist am 26.02.2021 verstorben.
URL:https://fra-z.ch/veranstaltung/frauengottesdienst/
LOCATION:MaiHof\, Weggismattstrasse 9\, Luzern\, 6004\, Schweiz
END:VEVENT
BEGIN:VEVENT
DTSTART;TZID=Europe/Paris:20210320T070000
DTEND;TZID=Europe/Paris:20210320T080000
DTSTAMP:20260425T192038
CREATED:20210212T080433Z
LAST-MODIFIED:20210311T130831Z
UID:357-1616223600-1616227200@fra-z.ch
SUMMARY:Ritual für Frühlings Tag- und Nachtgleiche
DESCRIPTION:Wir feiern die Gleichwertigkeit von Tag und Nacht\, den Übergang der dunklen in die helle Zeit. Licht und Dunkel gehörten zusammen und bilden ein Ganzes. Beides lässt uns wachsen.
URL:https://fra-z.ch/veranstaltung/demo-event/
ATTACH;FMTTYPE=image/jpeg:https://fra-z.ch/wp-content/uploads/event-bild-demo-h900.jpg
END:VEVENT
BEGIN:VEVENT
DTSTART;TZID=Europe/Paris:20210325T183000
DTEND;TZID=Europe/Paris:20210325T190000
DTSTAMP:20260425T192038
CREATED:20210314T164053Z
LAST-MODIFIED:20210314T164216Z
UID:596-1616697000-1616698800@fra-z.ch
SUMMARY:Schweigen für den Frieden
DESCRIPTION:uns fehlen die Worte
URL:https://fra-z.ch/veranstaltung/schweigen-fuer-den-frieden/
LOCATION:Kapellplatz\, Luzern\, Kappellplatz\, Luzern\, Schweiz
END:VEVENT
END:VCALENDAR