BEGIN:VCALENDAR
VERSION:2.0
PRODID:-//fra-z - ECPv6.15.20//NONSGML v1.0//EN
CALSCALE:GREGORIAN
METHOD:PUBLISH
X-WR-CALNAME:fra-z
X-ORIGINAL-URL:https://fra-z.ch
X-WR-CALDESC:Veranstaltungen für fra-z
REFRESH-INTERVAL;VALUE=DURATION:PT1H
X-Robots-Tag:noindex
X-PUBLISHED-TTL:PT1H
BEGIN:VTIMEZONE
TZID:Europe/Paris
BEGIN:DAYLIGHT
TZOFFSETFROM:+0100
TZOFFSETTO:+0200
TZNAME:CEST
DTSTART:20200329T010000
END:DAYLIGHT
BEGIN:STANDARD
TZOFFSETFROM:+0200
TZOFFSETTO:+0100
TZNAME:CET
DTSTART:20201025T010000
END:STANDARD
BEGIN:DAYLIGHT
TZOFFSETFROM:+0100
TZOFFSETTO:+0200
TZNAME:CEST
DTSTART:20210328T010000
END:DAYLIGHT
BEGIN:STANDARD
TZOFFSETFROM:+0200
TZOFFSETTO:+0100
TZNAME:CET
DTSTART:20211031T010000
END:STANDARD
BEGIN:DAYLIGHT
TZOFFSETFROM:+0100
TZOFFSETTO:+0200
TZNAME:CEST
DTSTART:20220327T010000
END:DAYLIGHT
BEGIN:STANDARD
TZOFFSETFROM:+0200
TZOFFSETTO:+0100
TZNAME:CET
DTSTART:20221030T010000
END:STANDARD
END:VTIMEZONE
BEGIN:VEVENT
DTSTART;TZID=Europe/Paris:20210429T183000
DTEND;TZID=Europe/Paris:20210429T190000
DTSTAMP:20260425T173459
CREATED:20210426T112828Z
LAST-MODIFIED:20210426T112828Z
UID:730-1619721000-1619722800@fra-z.ch
SUMMARY:Schweigen für den Frieden
DESCRIPTION:Das Schweigen für den Frieden bringt auf leise\, aber\nkraftvolle Art zum Ausdruck\, dass uns oft die Worte fehlen\,\num auf das Elend von Flüchtlingen\, von Krieg\, Hunger\nund Unterdrückung weltweit zu reagieren.\nMit dem Schweigekreis setzen wir ein Zeichen der Anteilnahme\nund Verbundenheit gegen die Gleichgültigkeit.\nMenschen mit prekärem Aufenthalt wie Asylsuchenden\nund Sans-Papiers gilt unsere Solidarität.
URL:https://fra-z.ch/veranstaltung/schweigen-fuer-den-frieden-2/
LOCATION:Kornmarkt Luzern\, Weinmarkt\, Luzern\, Luzern\, Schweiz
END:VEVENT
BEGIN:VEVENT
DTSTART;TZID=Europe/Paris:20210430T000000
DTEND;TZID=Europe/Paris:20210430T000000
DTSTAMP:20260425T173459
CREATED:20210413T155305Z
LAST-MODIFIED:20210413T155449Z
UID:656-1619740800-1619740800@fra-z.ch
SUMMARY:Walpurgis/Beltane
DESCRIPTION:Die Natur blüht auf und entfaltet sich in explodierender Kraft\, in Fülle und Schönheit. Diesen Moment feiern wir. \nUnser Flyer gibt Infos\, wie Walpurgis im kleinen\, privaten Rahmen mit Freundinnen* gefeiert werden kann.
URL:https://fra-z.ch/veranstaltung/walpurgis-beltane/
END:VEVENT
END:VCALENDAR