BEGIN:VCALENDAR
VERSION:2.0
PRODID:-//fra-z - ECPv6.15.20//NONSGML v1.0//EN
CALSCALE:GREGORIAN
METHOD:PUBLISH
X-WR-CALNAME:fra-z
X-ORIGINAL-URL:https://fra-z.ch
X-WR-CALDESC:Veranstaltungen für fra-z
REFRESH-INTERVAL;VALUE=DURATION:PT1H
X-Robots-Tag:noindex
X-PUBLISHED-TTL:PT1H
BEGIN:VTIMEZONE
TZID:Europe/Paris
BEGIN:DAYLIGHT
TZOFFSETFROM:+0100
TZOFFSETTO:+0200
TZNAME:CEST
DTSTART:20200329T010000
END:DAYLIGHT
BEGIN:STANDARD
TZOFFSETFROM:+0200
TZOFFSETTO:+0100
TZNAME:CET
DTSTART:20201025T010000
END:STANDARD
BEGIN:DAYLIGHT
TZOFFSETFROM:+0100
TZOFFSETTO:+0200
TZNAME:CEST
DTSTART:20210328T010000
END:DAYLIGHT
BEGIN:STANDARD
TZOFFSETFROM:+0200
TZOFFSETTO:+0100
TZNAME:CET
DTSTART:20211031T010000
END:STANDARD
BEGIN:DAYLIGHT
TZOFFSETFROM:+0100
TZOFFSETTO:+0200
TZNAME:CEST
DTSTART:20220327T010000
END:DAYLIGHT
BEGIN:STANDARD
TZOFFSETFROM:+0200
TZOFFSETTO:+0100
TZNAME:CET
DTSTART:20221030T010000
END:STANDARD
END:VTIMEZONE
BEGIN:VEVENT
DTSTART;TZID=Europe/Paris:20210706T190000
DTEND;TZID=Europe/Paris:20210706T193000
DTSTAMP:20260425T123247
CREATED:20210705T211242Z
LAST-MODIFIED:20210705T214728Z
UID:797-1625598000-1625599800@fra-z.ch
SUMMARY:Begegnungs- und Geschichtenwoche
DESCRIPTION:Kindergeschichten\nMoni erzählt eine Geschichte oder wenn Ihr mögt auch zwei. Für kleine und grosse Menschen. Eintritt frei.
URL:https://fra-z.ch/veranstaltung/begegnungs-und-geschichtenwoche/
LOCATION:Pfarrei Sempach\, Büelgasse 3\, Sempach\, Luzern\, 6204
END:VEVENT
BEGIN:VEVENT
DTSTART;TZID=Europe/Paris:20210707T185300
DTEND;TZID=Europe/Paris:20210707T200000
DTSTAMP:20260425T123247
CREATED:20210705T212822Z
LAST-MODIFIED:20210705T215057Z
UID:807-1625683980-1625688000@fra-z.ch
SUMMARY:Aves Migrantes – Zugvögel. Geschichten und Lieder\, Stickerei und Musik
DESCRIPTION:Begegnungs- und Geschichtenwoche – Kulturelles Online-Programm live aus Lima\, Sempach und Zürich auf Schweizerdeutsch und Spanisch\, mit Teresa Serpa\, Cali Flores\, Margrit und Moni Egger. Eintritt frei\, Kollekte (twint). \nPubling Viewing direkt im Zelt oder Zuhause mit Einstiegslink über info@combikultur.ch \nWeitere Informationen unter www.combikultur.com
URL:https://fra-z.ch/veranstaltung/aves-migrantes-zugvoegel-geschichten-und-lieder-stickerei-und-musik/
LOCATION:Pfarrei Sempach\, Büelgasse 3\, Sempach\, Luzern\, 6204
END:VEVENT
BEGIN:VEVENT
DTSTART;TZID=Europe/Paris:20210708T200000
DTEND;TZID=Europe/Paris:20210708T204500
DTSTAMP:20260425T123247
CREATED:20210705T213026Z
LAST-MODIFIED:20210705T213026Z
UID:809-1625774400-1625777100@fra-z.ch
SUMMARY:Vom Anfang – Biblische Geschichte für Erwachsene
DESCRIPTION:Begegnungs- und Geschchichtenwoche – Moni erzählt aus dem Anfang der Bibel und lädt ein zu einer Reise zu den eigenen inneren Bildern. Wer mag\, bleibt noch zum Gespräch. Eintritt frei.
URL:https://fra-z.ch/veranstaltung/vom-anfang-biblische-geschichte-fuer-erwachsene/
LOCATION:Pfarrei Sempach\, Büelgasse 3\, Sempach\, Luzern\, 6204
END:VEVENT
BEGIN:VEVENT
DTSTART;TZID=Europe/Paris:20210709T190000
DTEND;TZID=Europe/Paris:20210709T220000
DTSTAMP:20260425T123247
CREATED:20210705T213218Z
LAST-MODIFIED:20210705T214453Z
UID:811-1625857200-1625868000@fra-z.ch
SUMMARY:Offene "Erzählete" am Feuer
DESCRIPTION:Begegnungs- und Geschichtenwoche – Moni\, Sibylle und … erzählen Geschichten im Zelt. Wer Lust und Laune hat\, bringt selbst eine Geschichte mit und erzählt sie am Feuer.  Für grosse und kleine Menschen\, mit fröhlichem Kommen und Gehen\, so lang wies gefällt. Eintritt frei
URL:https://fra-z.ch/veranstaltung/offene-erzaehlete-am-feuer/
LOCATION:Pfarrei Sempach\, Büelgasse 3\, Sempach\, Luzern\, 6204
END:VEVENT
END:VCALENDAR