BEGIN:VCALENDAR
VERSION:2.0
PRODID:-//fra-z - ECPv6.15.20//NONSGML v1.0//EN
CALSCALE:GREGORIAN
METHOD:PUBLISH
X-WR-CALNAME:fra-z
X-ORIGINAL-URL:https://fra-z.ch
X-WR-CALDESC:Veranstaltungen für fra-z
REFRESH-INTERVAL;VALUE=DURATION:PT1H
X-Robots-Tag:noindex
X-PUBLISHED-TTL:PT1H
BEGIN:VTIMEZONE
TZID:Europe/Paris
BEGIN:DAYLIGHT
TZOFFSETFROM:+0100
TZOFFSETTO:+0200
TZNAME:CEST
DTSTART:20200329T010000
END:DAYLIGHT
BEGIN:STANDARD
TZOFFSETFROM:+0200
TZOFFSETTO:+0100
TZNAME:CET
DTSTART:20201025T010000
END:STANDARD
BEGIN:DAYLIGHT
TZOFFSETFROM:+0100
TZOFFSETTO:+0200
TZNAME:CEST
DTSTART:20210328T010000
END:DAYLIGHT
BEGIN:STANDARD
TZOFFSETFROM:+0200
TZOFFSETTO:+0100
TZNAME:CET
DTSTART:20211031T010000
END:STANDARD
BEGIN:DAYLIGHT
TZOFFSETFROM:+0100
TZOFFSETTO:+0200
TZNAME:CEST
DTSTART:20220327T010000
END:DAYLIGHT
BEGIN:STANDARD
TZOFFSETFROM:+0200
TZOFFSETTO:+0100
TZNAME:CET
DTSTART:20221030T010000
END:STANDARD
END:VTIMEZONE
BEGIN:VEVENT
DTSTART;TZID=Europe/Paris:20211104T200000
DTEND;TZID=Europe/Paris:20211104T210000
DTSTAMP:20260423T184459
CREATED:20211028T185148Z
LAST-MODIFIED:20211028T185502Z
UID:1280-1636056000-1636059600@fra-z.ch
SUMMARY:Dröhnendes Schweigen
DESCRIPTION:Stille Stunde am 4. November 2021\, von 20.00 Uhr bis 21.00 Uhr\, in der Peterskapelle Luzern. \nWeitere Informationen siehe unter Aktivitäten
URL:https://fra-z.ch/veranstaltung/droehnendes-schweigen/
LOCATION:Peterskappelle\, Kappellplatz 1a\, Luzern\, 6004
END:VEVENT
BEGIN:VEVENT
DTSTART;TZID=Europe/Paris:20211128T170000
DTEND;TZID=Europe/Paris:20211128T190000
DTSTAMP:20260423T184459
CREATED:20210609T172858Z
LAST-MODIFIED:20210722T070848Z
UID:774-1638118800-1638126000@fra-z.ch
SUMMARY:Frauen sind unschlagbar
DESCRIPTION:Lichterkette gegen Gewalt an Frauen* an der Zuger Seepromenade.
URL:https://fra-z.ch/veranstaltung/frauen-sind-unschlagbar/
LOCATION:Seepromenade Zug\, Seepromenade\, Zug
END:VEVENT
END:VCALENDAR