BEGIN:VCALENDAR
VERSION:2.0
PRODID:-//fra-z - ECPv6.15.20//NONSGML v1.0//EN
CALSCALE:GREGORIAN
METHOD:PUBLISH
X-WR-CALNAME:fra-z
X-ORIGINAL-URL:https://fra-z.ch
X-WR-CALDESC:Veranstaltungen für fra-z
REFRESH-INTERVAL;VALUE=DURATION:PT1H
X-Robots-Tag:noindex
X-PUBLISHED-TTL:PT1H
BEGIN:VTIMEZONE
TZID:Europe/Paris
BEGIN:DAYLIGHT
TZOFFSETFROM:+0100
TZOFFSETTO:+0200
TZNAME:CEST
DTSTART:20200329T010000
END:DAYLIGHT
BEGIN:STANDARD
TZOFFSETFROM:+0200
TZOFFSETTO:+0100
TZNAME:CET
DTSTART:20201025T010000
END:STANDARD
BEGIN:DAYLIGHT
TZOFFSETFROM:+0100
TZOFFSETTO:+0200
TZNAME:CEST
DTSTART:20210328T010000
END:DAYLIGHT
BEGIN:STANDARD
TZOFFSETFROM:+0200
TZOFFSETTO:+0100
TZNAME:CET
DTSTART:20211031T010000
END:STANDARD
BEGIN:DAYLIGHT
TZOFFSETFROM:+0100
TZOFFSETTO:+0200
TZNAME:CEST
DTSTART:20220327T010000
END:DAYLIGHT
BEGIN:STANDARD
TZOFFSETFROM:+0200
TZOFFSETTO:+0100
TZNAME:CET
DTSTART:20221030T010000
END:STANDARD
END:VTIMEZONE
BEGIN:VEVENT
DTSTART;TZID=Europe/Paris:20211212T163000
DTEND;TZID=Europe/Paris:20211212T180000
DTSTAMP:20260423T163228
CREATED:20210311T122525Z
LAST-MODIFIED:20210417T194609Z
UID:587-1639326600-1639332000@fra-z.ch
SUMMARY:Sammle meine Tränen
DESCRIPTION:Ökumenischer Gottesdienst mit Menschen\, die um ein Kind trauern. \nEinmal im Jahr mit anderen zusammen an Sternenkinder\, verstorbene Kinder und Jugendliche denken.
URL:https://fra-z.ch/veranstaltung/sammle-meine-traenen/
LOCATION:Peterskappelle\, Kappellplatz 1a\, Luzern\, 6004
END:VEVENT
BEGIN:VEVENT
DTSTART;TZID=Europe/Paris:20211215T193000
DTEND;TZID=Europe/Paris:20211215T203000
DTSTAMP:20260423T163228
CREATED:20211102T071548Z
LAST-MODIFIED:20211102T085220Z
UID:1292-1639596600-1639600200@fra-z.ch
SUMMARY:Frauen-Adventsfeier im MaiHof
DESCRIPTION:Die Frauen Adventfeier findet  im Kirchensaal MaiHof statt. Mit Zertifikat. \nThema: Schale des Lebens. \nAnschliessend gemütliches Beisammensein mit Tee und adventlichen Leckereien. \n 
URL:https://fra-z.ch/veranstaltung/frauen-adventsfeier-im-maihof/
LOCATION:MaiHof\, Weggismattstrasse 9\, Luzern\, 6004\, Schweiz
END:VEVENT
END:VCALENDAR