BEGIN:VCALENDAR
VERSION:2.0
PRODID:-//fra-z - ECPv6.15.20//NONSGML v1.0//EN
CALSCALE:GREGORIAN
METHOD:PUBLISH
X-WR-CALNAME:fra-z
X-ORIGINAL-URL:https://fra-z.ch
X-WR-CALDESC:Veranstaltungen für fra-z
REFRESH-INTERVAL;VALUE=DURATION:PT1H
X-Robots-Tag:noindex
X-PUBLISHED-TTL:PT1H
BEGIN:VTIMEZONE
TZID:Europe/Paris
BEGIN:DAYLIGHT
TZOFFSETFROM:+0100
TZOFFSETTO:+0200
TZNAME:CEST
DTSTART:20210328T010000
END:DAYLIGHT
BEGIN:STANDARD
TZOFFSETFROM:+0200
TZOFFSETTO:+0100
TZNAME:CET
DTSTART:20211031T010000
END:STANDARD
BEGIN:DAYLIGHT
TZOFFSETFROM:+0100
TZOFFSETTO:+0200
TZNAME:CEST
DTSTART:20220327T010000
END:DAYLIGHT
BEGIN:STANDARD
TZOFFSETFROM:+0200
TZOFFSETTO:+0100
TZNAME:CET
DTSTART:20221030T010000
END:STANDARD
BEGIN:DAYLIGHT
TZOFFSETFROM:+0100
TZOFFSETTO:+0200
TZNAME:CEST
DTSTART:20230326T010000
END:DAYLIGHT
BEGIN:STANDARD
TZOFFSETFROM:+0200
TZOFFSETTO:+0100
TZNAME:CET
DTSTART:20231029T010000
END:STANDARD
END:VTIMEZONE
BEGIN:VEVENT
DTSTART;TZID=Europe/Paris:20220212T090000
DTEND;TZID=Europe/Paris:20220212T140000
DTSTAMP:20260423T124904
CREATED:20220203T160313Z
LAST-MODIFIED:20220203T160318Z
UID:1376-1644656400-1644674400@fra-z.ch
SUMMARY:Scharniertag Ritualgruppe
DESCRIPTION:Mit dem Scharniertag verbinden wir die grosse Hoffnung\, dass unsere Rituale weiter angeboten werden können. Wir wünschen uns\, dass diese wertvollen spirituellen Angebote auch jungen Frauen Energie und Heimat geben.\nMachen Sie an unserem Scharniertag mit!
URL:https://fra-z.ch/veranstaltung/scharniertag-ritualgruppe/
LOCATION:Kirche St. Johannes Luzern\, Schädrütistrasse 26\, Luzern
END:VEVENT
BEGIN:VEVENT
DTSTART;TZID=Europe/Paris:20220212T090000
DTEND;TZID=Europe/Paris:20220212T140000
DTSTAMP:20260423T124904
CREATED:20220203T160350Z
LAST-MODIFIED:20220203T160426Z
UID:1372-1644656400-1644674400@fra-z.ch
SUMMARY:Scharniertag
DESCRIPTION:Mit dem Scharniertag verbinden wir die grosse Hoffnung\, dass unsere Rituale weiter angeboten werden können. Wir wünschen uns\, dass diese wertvollen spirituellen Angebote auch jungen Frauen Energie und Heimat geben. Machen Sie an unserem Scharniertag mit!
URL:https://fra-z.ch/veranstaltung/scharniertag/
LOCATION:Kirche St. Johannes Luzern\, Schädrütistrasse 26\, Luzern
END:VEVENT
END:VCALENDAR