BEGIN:VCALENDAR
VERSION:2.0
PRODID:-//fra-z - ECPv6.15.20//NONSGML v1.0//EN
CALSCALE:GREGORIAN
METHOD:PUBLISH
X-WR-CALNAME:fra-z
X-ORIGINAL-URL:https://fra-z.ch
X-WR-CALDESC:Veranstaltungen für fra-z
REFRESH-INTERVAL;VALUE=DURATION:PT1H
X-Robots-Tag:noindex
X-PUBLISHED-TTL:PT1H
BEGIN:VTIMEZONE
TZID:Europe/Paris
BEGIN:DAYLIGHT
TZOFFSETFROM:+0100
TZOFFSETTO:+0200
TZNAME:CEST
DTSTART:20210328T010000
END:DAYLIGHT
BEGIN:STANDARD
TZOFFSETFROM:+0200
TZOFFSETTO:+0100
TZNAME:CET
DTSTART:20211031T010000
END:STANDARD
BEGIN:DAYLIGHT
TZOFFSETFROM:+0100
TZOFFSETTO:+0200
TZNAME:CEST
DTSTART:20220327T010000
END:DAYLIGHT
BEGIN:STANDARD
TZOFFSETFROM:+0200
TZOFFSETTO:+0100
TZNAME:CET
DTSTART:20221030T010000
END:STANDARD
BEGIN:DAYLIGHT
TZOFFSETFROM:+0100
TZOFFSETTO:+0200
TZNAME:CEST
DTSTART:20230326T010000
END:DAYLIGHT
BEGIN:STANDARD
TZOFFSETFROM:+0200
TZOFFSETTO:+0100
TZNAME:CET
DTSTART:20231029T010000
END:STANDARD
END:VTIMEZONE
BEGIN:VEVENT
DTSTART;TZID=Europe/Paris:20220614T150000
DTEND;TZID=Europe/Paris:20220614T180000
DTSTAMP:20260423T054057
CREATED:20220614T103902Z
LAST-MODIFIED:20220614T103902Z
UID:1492-1655218800-1655229600@fra-z.ch
SUMMARY:Frauenstreik Luzern
DESCRIPTION:Die fra-z ist am Frauenstreik in Luzern mit dem Zelt auf dem Theaterplatz.
URL:https://fra-z.ch/veranstaltung/frauenstreik-luzern/
END:VEVENT
BEGIN:VEVENT
DTSTART;TZID=Europe/Paris:20220630T173000
DTEND;TZID=Europe/Paris:20220630T213000
DTSTAMP:20260423T054057
CREATED:20220216T125949Z
LAST-MODIFIED:20220614T110513Z
UID:1418-1656610200-1656624600@fra-z.ch
SUMMARY:Mitgliederversammlung 2022
DESCRIPTION:Donnerstag\, 30 Juni 2022 im Monséjour – Zentrum am See \n17.45 Uhr Mitgliederversammlung\, 19 Uhr Start fra-z Fest mit Musik und Apéro Riche
URL:https://fra-z.ch/veranstaltung/mitgliederversammlung-2022/
LOCATION:Monséjour – Zentrum am See Quaistrasse 2 6403 Küssnacht am Rigi\, Quaistrasse 2\, Küssnacht am Rigi\, 6403
END:VEVENT
END:VCALENDAR