BEGIN:VCALENDAR
VERSION:2.0
PRODID:-//fra-z - ECPv6.15.20//NONSGML v1.0//EN
CALSCALE:GREGORIAN
METHOD:PUBLISH
X-ORIGINAL-URL:https://fra-z.ch
X-WR-CALDESC:Veranstaltungen für fra-z
REFRESH-INTERVAL;VALUE=DURATION:PT1H
X-Robots-Tag:noindex
X-PUBLISHED-TTL:PT1H
BEGIN:VTIMEZONE
TZID:Europe/Paris
BEGIN:DAYLIGHT
TZOFFSETFROM:+0100
TZOFFSETTO:+0200
TZNAME:CEST
DTSTART:20210328T010000
END:DAYLIGHT
BEGIN:STANDARD
TZOFFSETFROM:+0200
TZOFFSETTO:+0100
TZNAME:CET
DTSTART:20211031T010000
END:STANDARD
BEGIN:DAYLIGHT
TZOFFSETFROM:+0100
TZOFFSETTO:+0200
TZNAME:CEST
DTSTART:20220327T010000
END:DAYLIGHT
BEGIN:STANDARD
TZOFFSETFROM:+0200
TZOFFSETTO:+0100
TZNAME:CET
DTSTART:20221030T010000
END:STANDARD
BEGIN:DAYLIGHT
TZOFFSETFROM:+0100
TZOFFSETTO:+0200
TZNAME:CEST
DTSTART:20230326T010000
END:DAYLIGHT
BEGIN:STANDARD
TZOFFSETFROM:+0200
TZOFFSETTO:+0100
TZNAME:CET
DTSTART:20231029T010000
END:STANDARD
END:VTIMEZONE
BEGIN:VEVENT
DTSTART;TZID=Europe/Paris:20221203T090000
DTEND;TZID=Europe/Paris:20221203T120000
DTSTAMP:20260422T182828
CREATED:20220216T125834Z
LAST-MODIFIED:20220907T071027Z
UID:1416-1670058000-1670068800@fra-z.ch
SUMMARY:Workshop "Starke Mütter\, starke Töchter"
DESCRIPTION:Im Archesaal der Reformierten Kirche Zug \nDownload Flyer 
URL:https://fra-z.ch/veranstaltung/workshop-starke-muetter-starke-toechter/
LOCATION:Reformierte Kirche Zug\, Bundesstrasse 15\, Zug\, 6300
END:VEVENT
BEGIN:VEVENT
DTSTART;VALUE=DATE:20221208
DTEND;VALUE=DATE:20221209
DTSTAMP:20260422T182828
CREATED:20220614T105032Z
LAST-MODIFIED:20220614T105032Z
UID:1504-1670457600-1670543999@fra-z.ch
SUMMARY:fra-z Zelt «Canto al viento» mit Combikultur
DESCRIPTION:Digitale Impulse\, Vernissage\, Ausstellung\, Feier für Menschen mit unerfülltem Kinderwunsch. In Schwyz (Ort noch offen).
URL:https://fra-z.ch/veranstaltung/fra-z-zelt-canto-al-viento-mit-combikultur/
END:VEVENT
BEGIN:VEVENT
DTSTART;TZID=Europe/Paris:20221209T080000
DTEND;TZID=Europe/Paris:20221209T170000
DTSTAMP:20260422T182828
CREATED:20220614T105111Z
LAST-MODIFIED:20220614T105111Z
UID:1506-1670572800-1670605200@fra-z.ch
SUMMARY:fra-z Zelt «Canto al viento» mit Combikultur
DESCRIPTION:Digitale Impulse\, Vernissage\, Ausstellung\, Feier für Menschen mit unerfülltem Kinderwunsch. In Schwyz (Ort noch offen).
URL:https://fra-z.ch/veranstaltung/fra-z-zelt-canto-al-viento-mit-combikultur-2/
END:VEVENT
BEGIN:VEVENT
DTSTART;VALUE=DATE:20221210
DTEND;VALUE=DATE:20221211
DTSTAMP:20260422T182828
CREATED:20220614T105150Z
LAST-MODIFIED:20220614T105150Z
UID:1508-1670630400-1670716799@fra-z.ch
SUMMARY:fra-z Zelt «Canto al viento» mit Combikultur
DESCRIPTION:Digitale Impulse\, Vernissage\, Ausstellung\, Feier für Menschen mit unerfülltem Kinderwunsch. In Schwyz (Ort noch offen).
URL:https://fra-z.ch/veranstaltung/fra-z-zelt-canto-al-viento-mit-combikultur-3/
END:VEVENT
BEGIN:VEVENT
DTSTART;VALUE=DATE:20221211
DTEND;VALUE=DATE:20221212
DTSTAMP:20260422T182828
CREATED:20220614T105311Z
LAST-MODIFIED:20220614T105311Z
UID:1510-1670716800-1670803199@fra-z.ch
SUMMARY:fra-z Zelt «Canto al viento» mit Combikultur
DESCRIPTION:Digitale Impulse\, Vernissage\, Ausstellung\, Feier für Menschen mit unerfülltem Kinderwunsch. In Schwyz (Ort noch offen).
URL:https://fra-z.ch/veranstaltung/fra-z-zelt-canto-al-viento-mit-combikultur-4/
END:VEVENT
BEGIN:VEVENT
DTSTART;TZID=Europe/Paris:20221211T163000
DTEND;TZID=Europe/Paris:20221211T173000
DTSTAMP:20260422T182828
CREATED:20220614T112705Z
LAST-MODIFIED:20220614T112929Z
UID:1534-1670776200-1670779800@fra-z.ch
SUMMARY:Sammle meine Tränen
DESCRIPTION:Ökumenischer Gottesdienst mit Menschen\, die um ein Kind trauern. Einmal im Jahr mit anderen zusammen an Sternenkinder\, verstorbene Kinder und Jugendliche denken.
URL:https://fra-z.ch/veranstaltung/sammle-meine-traenen-2/
LOCATION:Peterskappelle\, Kappellplatz 1a\, Luzern\, 6004
END:VEVENT
END:VCALENDAR