BEGIN:VCALENDAR
VERSION:2.0
PRODID:-//fra-z - ECPv6.15.20//NONSGML v1.0//EN
CALSCALE:GREGORIAN
METHOD:PUBLISH
X-ORIGINAL-URL:https://fra-z.ch
X-WR-CALDESC:Veranstaltungen für fra-z
REFRESH-INTERVAL;VALUE=DURATION:PT1H
X-Robots-Tag:noindex
X-PUBLISHED-TTL:PT1H
BEGIN:VTIMEZONE
TZID:Europe/Paris
BEGIN:DAYLIGHT
TZOFFSETFROM:+0100
TZOFFSETTO:+0200
TZNAME:CEST
DTSTART:20220327T010000
END:DAYLIGHT
BEGIN:STANDARD
TZOFFSETFROM:+0200
TZOFFSETTO:+0100
TZNAME:CET
DTSTART:20221030T010000
END:STANDARD
BEGIN:DAYLIGHT
TZOFFSETFROM:+0100
TZOFFSETTO:+0200
TZNAME:CEST
DTSTART:20230326T010000
END:DAYLIGHT
BEGIN:STANDARD
TZOFFSETFROM:+0200
TZOFFSETTO:+0100
TZNAME:CET
DTSTART:20231029T010000
END:STANDARD
BEGIN:DAYLIGHT
TZOFFSETFROM:+0100
TZOFFSETTO:+0200
TZNAME:CEST
DTSTART:20240331T010000
END:DAYLIGHT
BEGIN:STANDARD
TZOFFSETFROM:+0200
TZOFFSETTO:+0100
TZNAME:CET
DTSTART:20241027T010000
END:STANDARD
END:VTIMEZONE
BEGIN:VEVENT
DTSTART;TZID=Europe/Paris:20231125T090000
DTEND;TZID=Europe/Paris:20231125T120000
DTSTAMP:20260421T211734
CREATED:20230224T100512Z
LAST-MODIFIED:20230224T125402Z
UID:2679-1700902800-1700913600@fra-z.ch
SUMMARY:starke Mütter - starke Töchter
DESCRIPTION:Dieser Kurs richtet sich an Frauen\, die mit Ihren Töchtern (12-18 Jahre) einen Schnupper-Kurs gemeinsam besuchen möchten. Der Kurs setzt keine sportlichen Fähigkeiten voraus.
URL:https://fra-z.ch/veranstaltung/starke-muetter-starke-toechter/
LOCATION:Frauenzentrale Zug\, Tirolerweg 8\, Zug\, Zug\, 6300\, Schweiz
END:VEVENT
BEGIN:VEVENT
DTSTART;TZID=Europe/Paris:20231126T170000
DTEND;TZID=Europe/Paris:20231126T183000
DTSTAMP:20260421T211734
CREATED:20230424T114828Z
LAST-MODIFIED:20230424T114828Z
UID:1414-1701018000-1701023400@fra-z.ch
SUMMARY:Frauen sind unschlagbar
DESCRIPTION:Lichterkette an der Zuger Seepromenade. Eine Aktion zur Kampagne „16 Tage gegen Gewalt an Frauen“
URL:https://fra-z.ch/veranstaltung/frauen-sind-unschlagbar-2/
LOCATION:Seepromenade Zug\, Seepromenade\, Zug
END:VEVENT
BEGIN:VEVENT
DTSTART;TZID=Europe/Paris:20231130T183000
DTEND;TZID=Europe/Paris:20231130T190000
DTSTAMP:20260421T211734
CREATED:20230207T151217Z
LAST-MODIFIED:20230207T151217Z
UID:2618-1701369000-1701370800@fra-z.ch
SUMMARY:Schweigen für den Frieden
DESCRIPTION:
URL:https://fra-z.ch/veranstaltung/schweigen-fuer-den-frieden-14/
LOCATION:Kornmarkt Luzern\, Weinmarkt\, Luzern\, Luzern\, Schweiz
END:VEVENT
END:VCALENDAR