BEGIN:VCALENDAR
VERSION:2.0
PRODID:-//fra-z - ECPv6.15.20//NONSGML v1.0//EN
CALSCALE:GREGORIAN
METHOD:PUBLISH
X-WR-CALNAME:fra-z
X-ORIGINAL-URL:https://fra-z.ch
X-WR-CALDESC:Veranstaltungen für fra-z
REFRESH-INTERVAL;VALUE=DURATION:PT1H
X-Robots-Tag:noindex
X-PUBLISHED-TTL:PT1H
BEGIN:VTIMEZONE
TZID:Europe/Paris
BEGIN:DAYLIGHT
TZOFFSETFROM:+0100
TZOFFSETTO:+0200
TZNAME:CEST
DTSTART:20230326T010000
END:DAYLIGHT
BEGIN:STANDARD
TZOFFSETFROM:+0200
TZOFFSETTO:+0100
TZNAME:CET
DTSTART:20231029T010000
END:STANDARD
BEGIN:DAYLIGHT
TZOFFSETFROM:+0100
TZOFFSETTO:+0200
TZNAME:CEST
DTSTART:20240331T010000
END:DAYLIGHT
BEGIN:STANDARD
TZOFFSETFROM:+0200
TZOFFSETTO:+0100
TZNAME:CET
DTSTART:20241027T010000
END:STANDARD
BEGIN:DAYLIGHT
TZOFFSETFROM:+0100
TZOFFSETTO:+0200
TZNAME:CEST
DTSTART:20250330T010000
END:DAYLIGHT
BEGIN:STANDARD
TZOFFSETFROM:+0200
TZOFFSETTO:+0100
TZNAME:CET
DTSTART:20251026T010000
END:STANDARD
END:VTIMEZONE
BEGIN:VEVENT
DTSTART;TZID=Europe/Paris:20240614T140000
DTEND;TZID=Europe/Paris:20240614T180000
DTSTAMP:20260421T092226
CREATED:20240115T130211Z
LAST-MODIFIED:20240115T130211Z
UID:3276-1718373600-1718388000@fra-z.ch
SUMMARY:Feministischer Streik 2024
DESCRIPTION:Auch dieses Jahr ist fra-z am Frauenstreik. Dieses Mal in Schwyz
URL:https://fra-z.ch/veranstaltung/feministischer-streik-2024/
END:VEVENT
BEGIN:VEVENT
DTSTART;TZID=Europe/Paris:20240615T140000
DTEND;TZID=Europe/Paris:20240615T190000
DTSTAMP:20260421T092226
CREATED:20240115T130336Z
LAST-MODIFIED:20240118T130124Z
UID:3278-1718460000-1718478000@fra-z.ch
SUMMARY:Flüchtlingstag
DESCRIPTION:Die fra-z nimmt in Zug am Flüchtlingstag teil.
URL:https://fra-z.ch/veranstaltung/fluechtlingstag/
LOCATION:Reformierte Kirche Zug\, Bundesstrasse 15\, Zug\, 6300
END:VEVENT
BEGIN:VEVENT
DTSTART;TZID=Europe/Paris:20240621T140000
DTEND;TZID=Europe/Paris:20240621T170000
DTSTAMP:20260421T092226
CREATED:20240115T131044Z
LAST-MODIFIED:20240115T131057Z
UID:3285-1718978400-1718989200@fra-z.ch
SUMMARY:Ritualgruppe - Sommer Lithia
DESCRIPTION:Am Freitag\, 21. Juni in Schwyz. Selbstmassage und Meditation\, Jahresrückblick mit Feuerritual\, Johanneskraut öl/Tinktur selbst herstellen\, Mantra-Singen. Details folgen. Anmeldung bei olivia.alagia@fra-z.ch oder info@fra-z.ch
URL:https://fra-z.ch/veranstaltung/ritualgruppe-sommer-lithia/
END:VEVENT
BEGIN:VEVENT
DTSTART;TZID=Europe/Paris:20240627T183000
DTEND;TZID=Europe/Paris:20240627T190000
DTSTAMP:20260421T092226
CREATED:20240115T132453Z
LAST-MODIFIED:20240115T132453Z
UID:3297-1719513000-1719514800@fra-z.ch
SUMMARY:Schweigen für den Frieden
DESCRIPTION:
URL:https://fra-z.ch/veranstaltung/schweigen-fuer-den-frieden-20/
LOCATION:Kornmarkt Luzern\, Weinmarkt\, Luzern\, Luzern\, Schweiz
END:VEVENT
END:VCALENDAR