BEGIN:VCALENDAR
VERSION:2.0
PRODID:-//fra-z - ECPv6.15.20//NONSGML v1.0//EN
CALSCALE:GREGORIAN
METHOD:PUBLISH
X-WR-CALNAME:fra-z
X-ORIGINAL-URL:https://fra-z.ch
X-WR-CALDESC:Veranstaltungen für fra-z
REFRESH-INTERVAL;VALUE=DURATION:PT1H
X-Robots-Tag:noindex
X-PUBLISHED-TTL:PT1H
BEGIN:VTIMEZONE
TZID:Europe/Paris
BEGIN:DAYLIGHT
TZOFFSETFROM:+0100
TZOFFSETTO:+0200
TZNAME:CEST
DTSTART:20230326T010000
END:DAYLIGHT
BEGIN:STANDARD
TZOFFSETFROM:+0200
TZOFFSETTO:+0100
TZNAME:CET
DTSTART:20231029T010000
END:STANDARD
BEGIN:DAYLIGHT
TZOFFSETFROM:+0100
TZOFFSETTO:+0200
TZNAME:CEST
DTSTART:20240331T010000
END:DAYLIGHT
BEGIN:STANDARD
TZOFFSETFROM:+0200
TZOFFSETTO:+0100
TZNAME:CET
DTSTART:20241027T010000
END:STANDARD
BEGIN:DAYLIGHT
TZOFFSETFROM:+0100
TZOFFSETTO:+0200
TZNAME:CEST
DTSTART:20250330T010000
END:DAYLIGHT
BEGIN:STANDARD
TZOFFSETFROM:+0200
TZOFFSETTO:+0100
TZNAME:CET
DTSTART:20251026T010000
END:STANDARD
END:VTIMEZONE
BEGIN:VEVENT
DTSTART;TZID=Europe/Paris:20240701T170000
DTEND;TZID=Europe/Paris:20240701T193000
DTSTAMP:20260421T072746
CREATED:20240115T133530Z
LAST-MODIFIED:20240115T133530Z
UID:3318-1719853200-1719862200@fra-z.ch
SUMMARY:Jahresversammlung fra-z
DESCRIPTION:
URL:https://fra-z.ch/veranstaltung/jahresversammlung-fra-z/
END:VEVENT
BEGIN:VEVENT
DTSTART;TZID=Europe/Paris:20240713T130000
DTEND;TZID=Europe/Paris:20240713T170000
DTSTAMP:20260421T072746
CREATED:20240412T101716Z
LAST-MODIFIED:20240412T102745Z
UID:3591-1720875600-1720890000@fra-z.ch
SUMMARY:DIE KRIEGERIN - die kraftvolle Nahrung für Frauen
DESCRIPTION:Wir kreieren einen kraftvollen Kreis in der Gemeinschaft der Frauen\, um das innere Feuer zu entfachen und mehr Mut\, Stärke und Selbstvertrauen ins Leben einzuladen.  \nAnmeldung bis zum 5. Juli 2024 an: Olivia.alagia@fra-z.ch
URL:https://fra-z.ch/veranstaltung/die-kriegerin-die-kraftvolle-nahrung-fuer-frauen/
LOCATION:IdeenReich\, Engelbergstrasse 40a\, Stans\, 6370
END:VEVENT
END:VCALENDAR