BEGIN:VCALENDAR
VERSION:2.0
PRODID:-//fra-z - ECPv6.15.20//NONSGML v1.0//EN
CALSCALE:GREGORIAN
METHOD:PUBLISH
X-WR-CALNAME:fra-z
X-ORIGINAL-URL:https://fra-z.ch
X-WR-CALDESC:Veranstaltungen für fra-z
REFRESH-INTERVAL;VALUE=DURATION:PT1H
X-Robots-Tag:noindex
X-PUBLISHED-TTL:PT1H
BEGIN:VTIMEZONE
TZID:Europe/Paris
BEGIN:DAYLIGHT
TZOFFSETFROM:+0100
TZOFFSETTO:+0200
TZNAME:CEST
DTSTART:20240331T010000
END:DAYLIGHT
BEGIN:STANDARD
TZOFFSETFROM:+0200
TZOFFSETTO:+0100
TZNAME:CET
DTSTART:20241027T010000
END:STANDARD
BEGIN:DAYLIGHT
TZOFFSETFROM:+0100
TZOFFSETTO:+0200
TZNAME:CEST
DTSTART:20250330T010000
END:DAYLIGHT
BEGIN:STANDARD
TZOFFSETFROM:+0200
TZOFFSETTO:+0100
TZNAME:CET
DTSTART:20251026T010000
END:STANDARD
BEGIN:DAYLIGHT
TZOFFSETFROM:+0100
TZOFFSETTO:+0200
TZNAME:CEST
DTSTART:20260329T010000
END:DAYLIGHT
BEGIN:STANDARD
TZOFFSETFROM:+0200
TZOFFSETTO:+0100
TZNAME:CET
DTSTART:20261025T010000
END:STANDARD
END:VTIMEZONE
BEGIN:VEVENT
DTSTART;TZID=Europe/Paris:20250702T140000
DTEND;TZID=Europe/Paris:20250702T163000
DTSTAMP:20260420T085105
CREATED:20250620T113117Z
LAST-MODIFIED:20250620T113117Z
UID:5915-1751464800-1751473800@fra-z.ch
SUMMARY:I will swim and my daughter will swim too
DESCRIPTION:Warum können so viele Frauen nicht schwimmen? Geschichten aus aller Welt. \nBuchpräsentation und Kunst-Workshop von Anđela Rončević  zusammen mit der Gastgeberin Lakshi Ratnayaka.
URL:https://fra-z.ch/veranstaltung/i-will-swim-and-my-daughter-will-swim-too/
LOCATION:Brüggli Badi Zug\, Chamer Fussweg\, ZUg\, 6300
END:VEVENT
END:VCALENDAR