BEGIN:VCALENDAR
VERSION:2.0
PRODID:-//fra-z - ECPv6.15.20//NONSGML v1.0//EN
CALSCALE:GREGORIAN
METHOD:PUBLISH
X-WR-CALNAME:fra-z
X-ORIGINAL-URL:https://fra-z.ch
X-WR-CALDESC:Veranstaltungen für fra-z
REFRESH-INTERVAL;VALUE=DURATION:PT1H
X-Robots-Tag:noindex
X-PUBLISHED-TTL:PT1H
BEGIN:VTIMEZONE
TZID:Europe/Paris
BEGIN:DAYLIGHT
TZOFFSETFROM:+0100
TZOFFSETTO:+0200
TZNAME:CEST
DTSTART:20240331T010000
END:DAYLIGHT
BEGIN:STANDARD
TZOFFSETFROM:+0200
TZOFFSETTO:+0100
TZNAME:CET
DTSTART:20241027T010000
END:STANDARD
BEGIN:DAYLIGHT
TZOFFSETFROM:+0100
TZOFFSETTO:+0200
TZNAME:CEST
DTSTART:20250330T010000
END:DAYLIGHT
BEGIN:STANDARD
TZOFFSETFROM:+0200
TZOFFSETTO:+0100
TZNAME:CET
DTSTART:20251026T010000
END:STANDARD
BEGIN:DAYLIGHT
TZOFFSETFROM:+0100
TZOFFSETTO:+0200
TZNAME:CEST
DTSTART:20260329T010000
END:DAYLIGHT
BEGIN:STANDARD
TZOFFSETFROM:+0200
TZOFFSETTO:+0100
TZNAME:CET
DTSTART:20261025T010000
END:STANDARD
END:VTIMEZONE
BEGIN:VEVENT
DTSTART;TZID=Europe/Paris:20251129T090000
DTEND;TZID=Europe/Paris:20251129T120000
DTSTAMP:20260420T010536
CREATED:20250220T130347Z
LAST-MODIFIED:20250220T130347Z
UID:4587-1764406800-1764417600@fra-z.ch
SUMMARY:Workshop "Starke Mütter - starke Töchter"
DESCRIPTION:Dieser Kurs richtet sich an Frauen\, die mit Ihren Töchtern (12-18 Jahre) einen Schnupper-Kurs gemeinsam besuchen\nmöchten. Der Kurs setzt keine sportlichen Fähigkeiten voraus.
URL:https://fra-z.ch/veranstaltung/workshop-starke-muetter-starke-toechter-2/
LOCATION:effzett\, das fachzentrum\, Tirolerweg 8\, Zug\, 6300
END:VEVENT
BEGIN:VEVENT
DTSTART;TZID=Europe/Paris:20251129T110000
DTEND;TZID=Europe/Paris:20251129T150000
DTSTAMP:20260420T010536
CREATED:20250213T130801Z
LAST-MODIFIED:20250213T130801Z
UID:4575-1764414000-1764428400@fra-z.ch
SUMMARY:Ritual Luft
DESCRIPTION:in Sarnen
URL:https://fra-z.ch/veranstaltung/ritual-luft/
END:VEVENT
BEGIN:VEVENT
DTSTART;TZID=Europe/Paris:20251130T170000
DTEND;TZID=Europe/Paris:20251130T180000
DTSTAMP:20260420T010536
CREATED:20250220T125900Z
LAST-MODIFIED:20250220T125900Z
UID:4585-1764522000-1764525600@fra-z.ch
SUMMARY:Frauen sind unschlagbar
DESCRIPTION:Während der nationalen Präventionskampagne «16 Tage gegen Gewalt an Frauen» vom 25. November bis 10. Dezember organisiert die Projektgruppe «Frauen sind unschlagbar» in Zug eine Lichterkette. Damit setzen wir uns für eine gewaltfreie Gesellschaft ein und machen unsichtbare Gewalt sichtbar. In Zusammenarbeit mit eff-zett\, FRW\, Frauenhaus Zug\, Pallas und Triangel.
URL:https://fra-z.ch/veranstaltung/frauen-sind-unschlagbar-4/
LOCATION:Seepromenade Zug\, Seepromenade\, Zug
END:VEVENT
END:VCALENDAR