BEGIN:VCALENDAR
VERSION:2.0
PRODID:-//fra-z - ECPv6.15.20//NONSGML v1.0//EN
CALSCALE:GREGORIAN
METHOD:PUBLISH
X-WR-CALNAME:fra-z
X-ORIGINAL-URL:https://fra-z.ch
X-WR-CALDESC:Veranstaltungen für fra-z
REFRESH-INTERVAL;VALUE=DURATION:PT1H
X-Robots-Tag:noindex
X-PUBLISHED-TTL:PT1H
BEGIN:VTIMEZONE
TZID:Europe/Paris
BEGIN:DAYLIGHT
TZOFFSETFROM:+0100
TZOFFSETTO:+0200
TZNAME:CEST
DTSTART:20240331T010000
END:DAYLIGHT
BEGIN:STANDARD
TZOFFSETFROM:+0200
TZOFFSETTO:+0100
TZNAME:CET
DTSTART:20241027T010000
END:STANDARD
BEGIN:DAYLIGHT
TZOFFSETFROM:+0100
TZOFFSETTO:+0200
TZNAME:CEST
DTSTART:20250330T010000
END:DAYLIGHT
BEGIN:STANDARD
TZOFFSETFROM:+0200
TZOFFSETTO:+0100
TZNAME:CET
DTSTART:20251026T010000
END:STANDARD
BEGIN:DAYLIGHT
TZOFFSETFROM:+0100
TZOFFSETTO:+0200
TZNAME:CEST
DTSTART:20260329T010000
END:DAYLIGHT
BEGIN:STANDARD
TZOFFSETFROM:+0200
TZOFFSETTO:+0100
TZNAME:CET
DTSTART:20261025T010000
END:STANDARD
END:VTIMEZONE
BEGIN:VEVENT
DTSTART;TZID=Europe/Paris:20251214T150000
DTEND;TZID=Europe/Paris:20251214T170000
DTSTAMP:20260419T231633
CREATED:20250917T104636Z
LAST-MODIFIED:20250917T104827Z
UID:6515-1765724400-1765731600@fra-z.ch
SUMMARY:Sammle meine Tränen - Gedenkfeier für Menschen\, die um ein Kind trauern.
DESCRIPTION:Ökumenischer Gottesdienst für frühverstorbene Kinder. \nVorbereitungsteam: Renate Förster\, Spitalseelsorgerin und Lisbeth Fischer\, Trauerbegleitung. Musik: Marianne Bühlmann\, Akkordeon und Jörg Müller\, Cello.
URL:https://fra-z.ch/veranstaltung/sammle-meine-traenen-gedenkfeier-fuer-menschen-die-um-ein-kind-trauern/
LOCATION:Spitalkapelle Luzerner Kantonsspital\, Spitalstrasse\, Luzern\, 6000 Luzern\, Switzerland
END:VEVENT
BEGIN:VEVENT
DTSTART;TZID=Europe/Paris:20251221T180000
DTEND;TZID=Europe/Paris:20251221T200000
DTSTAMP:20260419T231633
CREATED:20251210T113144Z
LAST-MODIFIED:20251210T113144Z
UID:6703-1766340000-1766347200@fra-z.ch
SUMMARY:Offenes Singen zur Wintersonnenwende
DESCRIPTION:Der alljährliche\, berührende und bewegende Grossanlass. Rituelles Singen\, gemeinsam mit dem Ad Hoc-Ritualchor & Musiker*innen.
URL:https://fra-z.ch/veranstaltung/offenes-singen-zur-wintersonnenwende/
LOCATION:Kirche St. Karl Luzern\, Sankt-Karli-Strasse 23\, Luzern\, 6004
END:VEVENT
END:VCALENDAR