BEGIN:VCALENDAR
VERSION:2.0
PRODID:-//fra-z - ECPv6.15.20//NONSGML v1.0//EN
CALSCALE:GREGORIAN
METHOD:PUBLISH
X-ORIGINAL-URL:https://fra-z.ch
X-WR-CALDESC:Veranstaltungen für fra-z
REFRESH-INTERVAL;VALUE=DURATION:PT1H
X-Robots-Tag:noindex
X-PUBLISHED-TTL:PT1H
BEGIN:VTIMEZONE
TZID:Europe/Paris
BEGIN:DAYLIGHT
TZOFFSETFROM:+0100
TZOFFSETTO:+0200
TZNAME:CEST
DTSTART:20250330T010000
END:DAYLIGHT
BEGIN:STANDARD
TZOFFSETFROM:+0200
TZOFFSETTO:+0100
TZNAME:CET
DTSTART:20251026T010000
END:STANDARD
BEGIN:DAYLIGHT
TZOFFSETFROM:+0100
TZOFFSETTO:+0200
TZNAME:CEST
DTSTART:20260329T010000
END:DAYLIGHT
BEGIN:STANDARD
TZOFFSETFROM:+0200
TZOFFSETTO:+0100
TZNAME:CET
DTSTART:20261025T010000
END:STANDARD
BEGIN:DAYLIGHT
TZOFFSETFROM:+0100
TZOFFSETTO:+0200
TZNAME:CEST
DTSTART:20270328T010000
END:DAYLIGHT
BEGIN:STANDARD
TZOFFSETFROM:+0200
TZOFFSETTO:+0100
TZNAME:CET
DTSTART:20271031T010000
END:STANDARD
END:VTIMEZONE
BEGIN:VEVENT
DTSTART;TZID=Europe/Paris:20260613T140000
DTEND;TZID=Europe/Paris:20260613T170000
DTSTAMP:20260419T194739
CREATED:20260417T085046Z
LAST-MODIFIED:20260417T085105Z
UID:7001-1781359200-1781370000@fra-z.ch
SUMMARY:Body Literacy/Menstrual Health at work and beyond
DESCRIPTION:
URL:https://fra-z.ch/veranstaltung/body-literacy-menstrual-health-at-work-and-beyond/
LOCATION:Haus Wabi Sabi\, Marktstrasse 19\, Lachen\, 8853\, Switzerland
END:VEVENT
BEGIN:VEVENT
DTSTART;TZID=Europe/Paris:20260614T140000
DTEND;TZID=Europe/Paris:20260614T170000
DTSTAMP:20260419T194739
CREATED:20260417T085354Z
LAST-MODIFIED:20260417T085354Z
UID:7004-1781445600-1781456400@fra-z.ch
SUMMARY:Bluten im Schatten Menstruation in Krisen- und Kriegsgebieten
DESCRIPTION:Mit Anđela Rončević
URL:https://fra-z.ch/veranstaltung/bluten-im-schatten-menstruation-in-krisen-und-kriegsgebieten/
LOCATION:Haus Wabi Sabi\, Marktstrasse 19\, Lachen\, 8853\, Switzerland
END:VEVENT
BEGIN:VEVENT
DTSTART;TZID=Europe/Paris:20260620T080000
DTEND;TZID=Europe/Paris:20260620T170000
DTSTAMP:20260419T194739
CREATED:20260115T140304Z
LAST-MODIFIED:20260115T140304Z
UID:6788-1781942400-1781974800@fra-z.ch
SUMMARY:Ritual Sommer
DESCRIPTION:Das Ritual Sommer zum Thema Fülle\, Blüte\, Herz\, Lebenskraft\, Licht\, Sonnenenergie. Weitere Infos folgen
URL:https://fra-z.ch/veranstaltung/ritual-sommer/
END:VEVENT
BEGIN:VEVENT
DTSTART;TZID=Europe/Paris:20260620T140000
DTEND;TZID=Europe/Paris:20260620T180000
DTSTAMP:20260419T194739
CREATED:20260115T140641Z
LAST-MODIFIED:20260303T111115Z
UID:6794-1781964000-1781978400@fra-z.ch
SUMMARY:Zuger Flüchtlingstag
DESCRIPTION:Generationen verbinden – rund um die Welt. Ein interkulturelles Fest für jung und alt mit gemeinsamem Programm und Essen.
URL:https://fra-z.ch/veranstaltung/fluechtlingstag-2/
LOCATION:Theater Casino Zug\, Artherstrasse 4\, Zug\, Zug\, 6300\, Switzerland
END:VEVENT
BEGIN:VEVENT
DTSTART;TZID=Europe/Paris:20260630T140000
DTEND;TZID=Europe/Paris:20260630T190000
DTSTAMP:20260419T194739
CREATED:20260417T082918Z
LAST-MODIFIED:20260417T090027Z
UID:6960-1782828000-1782846000@fra-z.ch
SUMMARY:Jahresversammlung 2026
DESCRIPTION:Am Dienstag\, 30. Juni 2026 im grossen Saal im Quartierzentrum Wesmelin (Luzern). Weitere Infos folgen.
URL:https://fra-z.ch/veranstaltung/jahresversammlung-2026/
LOCATION:Quartierzentrum Wesmelin\, Landschaustrasse 6\, Luzern\, 6006\, Switzerland
END:VEVENT
END:VCALENDAR